BEGIN:VCALENDAR
VERSION:2.0
PRODID:-//Merryland Torrejón - ECPv4.0.3//NONSGML v1.0//EN
CALSCALE:GREGORIAN
METHOD:PUBLISH
X-WR-CALNAME:Merryland Torrejón
X-ORIGINAL-URL:http://merrylandtorrejon.com
X-WR-CALDESC:Events for Merryland Torrejón
BEGIN:VEVENT
DTSTART;TZID="UTC+2":20251227T120000
DTEND;TZID="UTC+2":20251227T140000
DTSTAMP:20260426T014455
CREATED:20251120T070953
LAST-MODIFIED:20251120T070953
UID:4338-1766836800-1766844000@merrylandtorrejon.com
SUMMARY:CREAMOS NUESTRO MUÑECO DE NIEVE
DESCRIPTION:¡ EL 27 DE DICIEMBRE VAMOS A HACER UN TALLER SUPER CREATIVO CON LOS MÁS PEQUES !\n\n \n\nVEN A PASAR UN DÍA SUPER DIVERTIDO CON NOSOTROS/AS\n\nTaller + comida 15€\n\n \n\n¡ NO TE LO PUEDES PERDER !\n\n \n\n \n\n \n\nSíguenos en Redes para más Info!\n\nInstagram Merryland\n\nFacebook Merryland
URL:http://merrylandtorrejon.com/evento/creamos-nuestro-muneco-de-nieve/
LOCATION:Calle San Isidro 12\, Torrejón de Ardoz\, 28850
CATEGORIES:Art Attack,Comidas,Fiestas,Karaoke,Talleres
ATTACH;FMTTYPE=image/png:http://merrylandtorrejon.com/wp-content/uploads/2025/11/¡Taller-navideño.png
END:VEVENT
END:VCALENDAR