BEGIN:VCALENDAR
VERSION:2.0
PRODID:-//Merryland Torrejón - ECPv4.0.3//NONSGML v1.0//EN
CALSCALE:GREGORIAN
METHOD:PUBLISH
X-WR-CALNAME:Merryland Torrejón
X-ORIGINAL-URL:http://merrylandtorrejon.com
X-WR-CALDESC:Events for Merryland Torrejón
BEGIN:VEVENT
DTSTART;TZID="UTC+2":20251214T120000
DTEND;TZID="UTC+2":20251214T140000
DTSTAMP:20260426T014430
CREATED:20251120T070059
LAST-MODIFIED:20251120T070059
UID:4332-1765713600-1765720800@merrylandtorrejon.com
SUMMARY:TALLER DE BOLAS NAVIDEÑAS
DESCRIPTION:¿Aún no te has enterado?\n\n \n\n \n\n¡ EL 14 DE DICIEMBRE TENEMOS UN SUPER TALLER NAVIDEÑO  !\n\nHaremos un super divertido y además.. comeremos todos juntos/as\n\n \n\nVEN A PASAR UN DÍA SUPER DIVERTIDO CON NOSOTROS/AS\n\n \n\n \n\n \n\n \n\nSíguenos en Redes para más Info!\n\nInstagram Merryland\n\nFacebook Merryland
URL:http://merrylandtorrejon.com/evento/4332/
LOCATION:Calle San Isidro 12\, Torrejón de Ardoz\, 28850
CATEGORIES:Art Attack,Comidas,Talleres
ATTACH;FMTTYPE=image/png:http://merrylandtorrejon.com/wp-content/uploads/2025/11/Taller-bolas-navideñas.png
END:VEVENT
END:VCALENDAR